BEGIN:VCALENDAR
VERSION:2.0
CALSCALE:GREGORIAN
PRODID:-//Diputació de Barcelona//DibaCMS//EN
BEGIN:VEVENT
UID:9735
DTSTAMP:20260421T103723
DTSTART:20240422T193000
DTEND:20240422T210000
SUMMARY:Xerrada-col·loqui sobre el llibre "Canovelles en el període de la transició democràtica (1975-1985)"
LOCATION:Carrer Barcelona, 8-10. Cruïlla Carrer Sant Jordi 08420 Canovelles
METHOD:PUBLISH
X-WR-CALNAME:ajuntament@canovelles.cat
X-WR-TIMEZONE:Europe/Madrid
DESCRIPTION:Entrevista col·loqui amb Ferran Polo, autor del llibre editat per l'Ajuntament de Canovelles, i amb l’historiador Joan Garriga i Andreu, prologuista del treball.

L’aforament és limitat. Si us plau, confirmeu l’assistència al correu electrònic patrimoni@canovelles.cat.

Activitat inclosa dins la programació de Sant Jordi 2024.

URI:https://www.canovelles.cat/actualitat/agenda/xerrada-colloqui-sobre-el-llibre-canovelles-en-el-periode-de-la-transicio-democratica-1975-1985.html
CLASS:PUBLIC
END:VEVENT
END:VCALENDAR
