BEGIN:VCALENDAR
VERSION:2.0
CALSCALE:GREGORIAN
PRODID:-//Diputació de Barcelona//DibaCMS//EN
BEGIN:VEVENT
UID:9395
DTSTAMP:20260424T190107
DTSTART:20240525T180000
DTEND:20240525T190000
SUMMARY:Espectacle d'animació familiar: Marremangu, amb Pep Callau i Els Pepsicolen
LOCATION:08420 Canovelles
METHOD:PUBLISH
X-WR-CALNAME:ajuntament@canovelles.cat
X-WR-TIMEZONE:Europe/Madrid
DESCRIPTION:El pallasso Pep Callau i el grup musical Pepsicolen ofereixen una barreja explosiva d’animació musical i d’actuació clownesca que encomana el riure i l’alegria a tots els seus espectadors.

URI:https://www.canovelles.cat/actualitat/agenda/espectacle-danimacio-familiar-marremangu-amb-pep-callau-i-els-pepsicolen.html
CLASS:PUBLIC
END:VEVENT
END:VCALENDAR
