BEGIN:VCALENDAR
VERSION:2.0
CALSCALE:GREGORIAN
PRODID:-//Diputació de Barcelona//DibaCMS//EN
BEGIN:VEVENT
UID:9389
DTSTAMP:20260421T171316
DTSTART:20240406T200000
DTEND:20240406T213000
SUMMARY:Teatre: Pols de Diamant, amb Dafnis Balduz i Albert Salazar
LOCATION:Carrer Barcelona, 8-10. Cruïlla Carrer Sant Jordi 08420 Canovelles
METHOD:PUBLISH
X-WR-CALNAME:ajuntament@canovelles.cat
X-WR-TIMEZONE:Europe/Madrid
DESCRIPTION:Quan en Dani denuncia haver estat víctima d'una brutal agressió LGTBIfòbica, la seva història es torna viral a nivell nacional. Les xarxes bullen, ocupa portades de diari i tertúlies televisives, i fins i tot fa que els màxims dirigents polítics s'hi manifestin.

URI:https://www.canovelles.cat/actualitat/agenda/teatre-pols-de-diamant-amb-dafnis-balduz-i-albert-salazar.html
CLASS:PUBLIC
END:VEVENT
END:VCALENDAR
