BEGIN:VCALENDAR
VERSION:2.0
CALSCALE:GREGORIAN
PRODID:-//Diputació de Barcelona//DibaCMS//EN
BEGIN:VEVENT
UID:8763
DTSTAMP:20260421T221525
DTSTART:20230224T120000
DTEND:20230224T121500
SUMMARY:Concentració silenciosa de cinc minuts en favor de la pau i el cessament del conflicte bèl·lic a Ucraïna 
LOCATION:A la porta posterior de l'Ajuntament (a l’entrada de l’OAC - carrer de Sant Jordi, 46). 
METHOD:PUBLISH
X-WR-CALNAME:ajuntament@canovelles.cat
X-WR-TIMEZONE:Europe/Madrid
DESCRIPTION:Els cinc munits de silenci tindran lloc aquest divendres 24 de febrer, a les 12 hores, a la porta posterior de l'Ajuntament (a l’entrada de l’OAC - carrer de Sant Jordi, 46).

URI:https://www.canovelles.cat/actualitat/agenda/8763-concentracio-silenciosa-de-cinc-minuts-en-favor-de-la-pau-i-el-cessament-del-conflicte-bellic-a-ucraina-.html
CLASS:PUBLIC
END:VEVENT
END:VCALENDAR
