BEGIN:VCALENDAR
VERSION:2.0
CALSCALE:GREGORIAN
PRODID:-//Diputació de Barcelona//DibaCMS//EN
BEGIN:VEVENT
UID:8758
DTSTAMP:20260420T115626
DTSTART:20230225T080000
DTEND:20230226T220000
SUMMARY:Agenda esportiva del cap de setmana
LOCATION:
METHOD:PUBLISH
X-WR-CALNAME:ajuntament@canovelles.cat
X-WR-TIMEZONE:Europe/Madrid
DESCRIPTION:Consulteu l'agenda esportiva del cap de setmana.

URI:https://www.canovelles.cat/actualitat/agenda/8758-agenda-esportiva-del-cap-de-setmana.html
CLASS:PUBLIC
END:VEVENT
END:VCALENDAR
