BEGIN:VCALENDAR
VERSION:2.0
CALSCALE:GREGORIAN
PRODID:-//Diputació de Barcelona//DibaCMS//EN
BEGIN:VEVENT
UID:8336
DTSTAMP:20260422T091857
DTSTART:20220719T180000
DTEND:20220719T235900
SUMMARY:FM 22 - Dimarts 19 de juliol
LOCATION:C.Santa Madrona, 1 08420 Canovelles
METHOD:PUBLISH
X-WR-CALNAME:ajuntament@canovelles.cat
X-WR-TIMEZONE:Europe/Madrid
DESCRIPTION:BEACH HANDBOL


	Pista d’handbol sorra del Camp Municipal de Futbol a les 18 h
	Inscripció previa
	Col·l.: Club Handbol Canovelles


NITS DE CINEMA AL CARRER TROLLS 2


	Can Xarlet a les 22 h
	Una producció de DreamWorks Animation i direcció de Walt Dohrn. Recomanada per a tots els públics. En cas de pluja, l’activitat es farà a la Pista Polivalent.


 

 

URI:https://www.canovelles.cat/actualitat/agenda/fm-22-dimarts-19-de-juliol.html
CLASS:PUBLIC
END:VEVENT
END:VCALENDAR
