BEGIN:VCALENDAR
VERSION:2.0
CALSCALE:GREGORIAN
PRODID:-//Diputació de Barcelona//DibaCMS//EN
BEGIN:VEVENT
UID:7729
DTSTAMP:20260422T232946
DTSTART:20211001T180000
DTEND:20211001T190000
SUMMARY:Hora del conte a la biblioteca: Hansel, Gretel i la fada xocolatera
LOCATION:C. Molí de la Sal, 24-26 08420 Canovelles
METHOD:PUBLISH
X-WR-CALNAME:ajuntament@canovelles.cat
X-WR-TIMEZONE:Europe/Madrid
DESCRIPTION:L’activitat es desenvolupa els divendres a les 18 hores, a càrrec de l’Anna González. Per participar-hi cal inscripció prèvia trucant al telèfon de la biblioteca, el 93 861 89 80, o bé enviant un correu a biblioteca@canovelles.cat

URI:https://www.canovelles.cat/actualitat/agenda/hora-del-conte-a-la-biblioteca-hansel-gretel-i-la-fada-xocolatera.html
CLASS:PUBLIC
END:VEVENT
END:VCALENDAR
