BEGIN:VCALENDAR
VERSION:2.0
CALSCALE:GREGORIAN
PRODID:-//Diputació de Barcelona//DibaCMS//EN
BEGIN:VEVENT
UID:7527
DTSTAMP:20260419T171055
DTSTART:20210716T213000
DTEND:20210716T223000
SUMMARY:Cicle EmerGents. Concert de Javi Rueda i David Jiménez
LOCATION:Carrer Barcelona, 8-10. Cruïlla Carrer Sant Jordi 08420 Canovelles
METHOD:PUBLISH
X-WR-CALNAME:ajuntament@canovelles.cat
X-WR-TIMEZONE:Europe/Madrid
DESCRIPTION:



URI:https://www.canovelles.cat/actualitat/agenda/cicle-emergents-concert-de-javi-rueda-i-david-jimenez.html
CLASS:PUBLIC
END:VEVENT
END:VCALENDAR
