BEGIN:VCALENDAR
VERSION:2.0
CALSCALE:GREGORIAN
PRODID:-//Diputació de Barcelona//DibaCMS//EN
BEGIN:VEVENT
UID:11084
DTSTAMP:20260421T143236
DTSTART:20260430T180000
DTEND:20260430T190500
SUMMARY:Activitats a la biblioteca: Especial Sant Jordi 2026: L'hora del conte amb Elena Codó
LOCATION:C. Molí de la Sal, 24-26 08420 Canovelles
METHOD:PUBLISH
X-WR-CALNAME:ajuntament@canovelles.cat
X-WR-TIMEZONE:Europe/Madrid
DESCRIPTION:




a {
    text-decoration: none;
    color: #464feb;
}
tr th, tr td {
    border: 1px solid #e6e6e6;
}
tr th {
    background-color: #f5f5f5;
}




a {
    text-decoration: none;
    color: #464feb;
}
tr th, tr td {
    border: 1px solid #e6e6e6;
}
tr th {
    background-color: #f5f5f5;
}


a {
    text-decoration: none;
    color: #464feb;
}
tr th, tr td {
    border: 1px solid #e6e6e6;
}
tr th {
    background-color: #f5f5f5;
}

La Biblioteca Municipal Frederica Montseny acollirà el proper 30 d'abril una nova Hora del conte. L’activitat anirà a càrrec de Elena Codó, que narrarà el conte “Dins la cova del drac”.


a {
    text-decoration: none;
    color: #464feb;
}
tr th, tr td {
    border: 1px solid #e6e6e6;
}
tr th {
    background-color: #f5f5f5;
}


URI:https://www.canovelles.cat/actualitat/agenda/activitats-a-la-biblioteca-especial-sant-jordi-2026-lhora-del-conte-amb-elena-codo.html
CLASS:PUBLIC
END:VEVENT
END:VCALENDAR
