BEGIN:VCALENDAR
VERSION:2.0
CALSCALE:GREGORIAN
PRODID:-//Diputació de Barcelona//DibaCMS//EN
BEGIN:VEVENT
UID:11079
DTSTAMP:20260421T143535
DTSTART:20260429T180000
DTEND:20260429T190500
SUMMARY:Activitats a la biblioteca: Especial Sant Jordi 2026: Club de Lectura Agatha Christie
LOCATION:C. Molí de la Sal, 24-26 08420 Canovelles
METHOD:PUBLISH
X-WR-CALNAME:ajuntament@canovelles.cat
X-WR-TIMEZONE:Europe/Madrid
DESCRIPTION:




a {
    text-decoration: none;
    color: #464feb;
}
tr th, tr td {
    border: 1px solid #e6e6e6;
}
tr th {
    background-color: #f5f5f5;
}




a {
    text-decoration: none;
    color: #464feb;
}
tr th, tr td {
    border: 1px solid #e6e6e6;
}
tr th {
    background-color: #f5f5f5;
}


a {
    text-decoration: none;
    color: #464feb;
}
tr th, tr td {
    border: 1px solid #e6e6e6;
}
tr th {
    background-color: #f5f5f5;
}

La Biblioteca Municipal Frederica Montseny acollirà un club de lectura dedicat a Agatha Christie, "I aleshores no en quedà cap",  el proper dimecres 29 d’abril, a les 18 h, dins la programació d’activitats de Sant Jordi.



URI:https://www.canovelles.cat/actualitat/agenda/activitats-a-la-biblioteca-especial-sant-jordi-2026-club-de-lectura-agatha-christie.html
CLASS:PUBLIC
END:VEVENT
END:VCALENDAR
