BEGIN:VCALENDAR
VERSION:2.0
CALSCALE:GREGORIAN
PRODID:-//Diputació de Barcelona//DibaCMS//EN
BEGIN:VEVENT
UID:10888
DTSTAMP:20260419T153118
DTSTART:20251229T100000
DTEND:20251229T200000
SUMMARY:Parc de Nadal
LOCATION:Passeig de Mercè Rodoreda 08420 Canovelles
METHOD:PUBLISH
X-WR-CALNAME:ajuntament@canovelles.cat
X-WR-TIMEZONE:Europe/Madrid
DESCRIPTION:El parc obrirà les portes els dies 29 i 30, tant al matí (de 10 a 14 h) com a la tarda (de 16 a 20 h). En aquest horari, petits i grans podran gaudir d’atraccions (l’inflable ‘Gira-salta’, els llits elàstics, el boti-boti per als més menuts, i el brau mecànic), així com de tallers, servei de maquillatge de fantasia, jocs gegants i jocs temàtics. Com sempre, hi haurà el racó ‘Mames i Papes’ i l’espai de recollida de joguines de la campanya Cap infant sense joguina. Per arrodonir la diversió, cada dia a les 19 h podreu gaudir d’un espectacle familiar. 

URI:https://www.canovelles.cat/actualitat/agenda/10888-parc-de-nadal.html
CLASS:PUBLIC
END:VEVENT
END:VCALENDAR
