BEGIN:VCALENDAR
VERSION:2.0
CALSCALE:GREGORIAN
PRODID:-//Diputació de Barcelona//DibaCMS//EN
BEGIN:VEVENT
UID:10803
DTSTAMP:20260423T181227
DTSTART:20260509T200000
DTEND:20260509T213000
SUMMARY:Música: Ana Tejado Band
LOCATION:Carrer Barcelona, 8-10. Cruïlla Carrer Sant Jordi 08420 Canovelles
METHOD:PUBLISH
X-WR-CALNAME:ajuntament@canovelles.cat
X-WR-TIMEZONE:Europe/Madrid
DESCRIPTION:Un concert amb una història personal arrelada

URI:https://www.canovelles.cat/actualitat/agenda/musica-ana-tejado-band.html
CLASS:PUBLIC
END:VEVENT
END:VCALENDAR
