BEGIN:VCALENDAR
VERSION:2.0
CALSCALE:GREGORIAN
PRODID:-//Diputació de Barcelona//DibaCMS//EN
BEGIN:VEVENT
UID:10397
DTSTAMP:20260420T001917
DTSTART:20250307T173000
DTEND:20250307T183000
SUMMARY:8M - Inauguració de l'exposició "Història del feminisme"
LOCATION:C. Molí de la Sal, 24-26 08420 Canovelles
METHOD:PUBLISH
X-WR-CALNAME:ajuntament@canovelles.cat
X-WR-TIMEZONE:Europe/Madrid
DESCRIPTION:En el marc de la programació amb motiu del Dia Internacional de les Dones, s'inaugura una exposició a la biblioteca. Aprofitant la simbologia de les escales com un esforç constant, esglaó a esglaó, s’ha desenvolupat una línia en el temps amb els principals esdeveniments de la història del feminisme.

URI:https://www.canovelles.cat/actualitat/agenda/8m-inauguracio-de-lexposicio-historia-del-feminisme.html
CLASS:PUBLIC
END:VEVENT
END:VCALENDAR
