BEGIN:VCALENDAR
VERSION:2.0
CALSCALE:GREGORIAN
PRODID:-//Diputació de Barcelona//DibaCMS//EN
BEGIN:VEVENT
UID:10203
DTSTAMP:20260425T023855
DTSTART:20241214T110000
DTEND:20241214T130000
SUMMARY:Zumba solidària 
LOCATION:Passeig de Mercè Rodoreda 08420 Canovelles
METHOD:PUBLISH
X-WR-CALNAME:ajuntament@canovelles.cat
X-WR-TIMEZONE:Europe/Madrid
DESCRIPTION:Activitat solidària en benefici dels afectats per la DANA. Hi col·labora el CCR Casa de Andalucía i CEM Thalassa.

Activitat inclosa en la programació de Nadal 2024-2025.

URI:https://www.canovelles.cat/actualitat/agenda/zumba-solidaria-.html
CLASS:PUBLIC
END:VEVENT
END:VCALENDAR
