BEGIN:VCALENDAR
VERSION:2.0
CALSCALE:GREGORIAN
PRODID:-//Diputació de Barcelona//DibaCMS//EN
BEGIN:VEVENT
UID:10192
DTSTAMP:20260425T175319
DTSTART:20241205T180000
DTEND:20241205T193000
SUMMARY:Activitats a la biblioteca: Club de lectura infantil
LOCATION:C. Molí de la Sal, 24-26 08420 Canovelles
METHOD:PUBLISH
X-WR-CALNAME:ajuntament@canovelles.cat
X-WR-TIMEZONE:Europe/Madrid
DESCRIPTION:Club de lectura infantil amb contes sobre l'empatia. Es tracta d'una sessió de lectures acompanyades amb temàtiques sobre emocions.

URI:https://www.canovelles.cat/actualitat/agenda/10192-activitats-a-la-biblioteca-club-de-lectura-infantil.html
CLASS:PUBLIC
END:VEVENT
END:VCALENDAR
