BEGIN:VCALENDAR
VERSION:2.0
CALSCALE:GREGORIAN
PRODID:-//Diputació de Barcelona//DibaCMS//EN
BEGIN:VEVENT
UID:10039
DTSTAMP:20260426T021518
DTSTART:20240926T081500
DTEND:20240926T090000
SUMMARY:Camins Escolars: escola Joan Miró
LOCATION:C. Indústria, 22 08420 Canovelles
METHOD:PUBLISH
X-WR-CALNAME:ajuntament@canovelles.cat
X-WR-TIMEZONE:Europe/Madrid
DESCRIPTION:Els Camins escolars són els itineraris senyalitzats que han de seguir els infants per anar i tornar de l’escola a peu i de manera segura. L’animador Pep Callau acompanyarà l’alumnat de les escoles de primària als seus centres educatiu, donant a conèixer una ruta diferent cada dia. El punt de sortida dels recorreguts serà el Centre Cultural. 




URI:https://www.canovelles.cat/actualitat/agenda/10039-camins-escolars-escola-joan-miro.html
CLASS:PUBLIC
END:VEVENT
END:VCALENDAR
